Workbook

Sheet Sheet1
A1: 内江市市中区紧密型县域医共体 2026年下半年部分成员单位招聘员额（编外）人员成绩及排名情况
A2: 序号 | B2: 单位 | C2: 姓名 | D2: 性别 | E2: 出生日期 | F2: 学历 | G2: 学位 | H2: 专业 | I2: 报考岗位 | J2: 成绩 | K2: 排名 | L2: 是否进入体检 | M2: 备注
A3: 1 | B3: 内江市市中区人民医院 | C3: 曾忠杰 | D3: 男 | E3: 1997.07 | F3: 本科 | G3: 学士 | H3: =VLOOKUP(C:C,[2]Sheet2!B:F,5,0) -> 临床医学 | I3: 泌尿外科医师 | J3: 71.01 | K3: 1 | L3: 是
A4: 2 | B4: 内江市市中区人民医院 | C4: 范忠杰 | D4: 男 | E4: 2001.09 | F4: 本科 | G4: 学士 | H4: =VLOOKUP(C:C,[2]Sheet2!B:F,5,0) -> 临床医学 | I4: 神经外科医师 | J4: 70.77 | K4: 1 | L4: 是
A5: 3 | B5: 内江市市中区人民医院 | C5: 唐晓同 | D5: 女 | E5: 1995.03 | F5: 硕士研究生 | G5: 硕士 | H5: =VLOOKUP(C:C,[2]Sheet2!B:F,5,0) -> 肿瘤学 | I5: 肿瘤科医师 | J5: 77.67 | K5: 1 | L5: 是
A6: 4 | B6: 内江市市中区人民医院 | C6: 孙罗亮 | D6: 男 | E6: 1998.01 | F6: 本科 | G6: 学士 | H6: =VLOOKUP(C:C,[2]Sheet2!B:F,5,0) -> 临床医学 | I6: 肿瘤科医师 | J6: 81.4 | K6: 1 | L6: 是
A7: 5 | B7: 内江市市中区人民医院 | C7: 蔡小清 | D7: 男 | E7: 1992.12 | F7: 本科 | G7: 学士 | H7: =VLOOKUP(C:C,[2]Sheet2!B:F,5,0) -> 临床医学 | I7: 肿瘤科医师 | J7: 77.05 | K7: 2 | L7: 否
A8: 6 | B8: 内江市市中区人民医院 | C8: 谢林志 | D8: 男 | E8: 2003.07 | F8: 本科 | G8: 学士 | H8: =VLOOKUP(C:C,[2]Sheet2!B:F,5,0) -> 医学影像技术 | I8: 肿瘤科技士 | J8: 71.28 | K8: 1 | L8: 是
A9: 7 | B9: 内江市市中区人民医院 | C9: 彭益聪 | D9: 男 | E9: 2003.12 | F9: 本科 | G9: 学士 | H9: =VLOOKUP(C:C,[2]Sheet2!B:F,5,0) -> 医学影像技术 | I9: 肿瘤科技士 | J9: 71.12 | K9: 2 | L9: 否
A10: 8 | B10: 内江市市中区人民医院 | C10: 钟承晔 | D10: 男 | E10: 2004.11 | F10: 本科 | G10: 学士 | H10: =VLOOKUP(C:C,[2]Sheet2!B:F,5,0) -> 医学影像技术 | I10: 肿瘤科技士 | J10: 66.95 | K10: 3 | L10: 否
A11: 9 | B11: 内江市市中区人民医院 | C11: 谭树林 | D11: 男 | E11: 2002.1 | F11: 本科 | G11: 学士 | H11: =VLOOKUP(C:C,[2]Sheet2!B:F,5,0) -> 医学影像技术 | I11: 放射科技士 | J11: 76.18 | K11: 1 | L11: 是
A12: 10 | B12: 内江市市中区人民医院 | C12: 吴涵冰 | D12: 女 | E12: 2000.12 | F12: 本科 | G12: 学士 | H12: =VLOOKUP(C:C,[2]Sheet2!B:F,5,0) -> 护理学 | I12: 护士 | J12: 78 | K12: 1 | L12: 是
A13: 11 | B13: 内江市市中区人民医院 | C13: 唐雅妮 | D13: 女 | E13: 2002.05 | F13: 本科 | G13: 学士 | H13: =VLOOKUP(C:C,[2]Sheet2!B:F,5,0) -> 护理学 | I13: 护士 | J13: 77.7 | K13: 2 | L13: 是
A14: 12 | B14: 内江市市中区人民医院 | C14: 刘露露 | D14: 女 | E14: 2003.11 | F14: 本科 | G14: 学士 | H14: =VLOOKUP(C:C,[2]Sheet2!B:F,5,0) -> 护理学 | I14: 护士 | J14: 77.63 | K14: 3 | L14: 否
... A29: 27 | B29: 内江市市中区人民医院 | C29: 祝 捷 | D29: 男 | E29: 2003.03 | F29: 本科 | G29: 学士 | H29: =VLOOKUP(C:C,[2]Sheet2!B:F,5,0) -> 计算机科学与技术 | I29: 信息科 | J29: 75.32 | K29: 4 | L29: 否
A30: 28 | B30: 内江市市中区妇幼保健计划生育服务中心 | C30: 李知平 | D30: 女 | E30: 36915 | F30: 硕士研究生 | G30: 硕士 | H30: =VLOOKUP(C30,[1]总表93!$B:$K,10,0) -> 妇产科学 | I30: 妇产科医师 | J30: 78.532 | K30: 1 | L30: 是
A31: 29 | B31: 内江市市中区妇幼保健计划生育服务中心 | C31: 罗洋 | D31: 女 | E31: 36943 | F31: 本科 | G31: 学士 | H31: =VLOOKUP(C31,[1]总表93!$B:$K,10,0) -> 临床医学 | I31: 妇产科医师 | J31: 77.612 | K31: 2 | L31: 是
A32: 30 | B32: 内江市市中区妇幼保健计划生育服务中心 | C32: 曹肖宇 | D32: 女 | E32: 36007 | F32: 本科 | G32: 学士 | H32: =VLOOKUP(C32,[1]总表93!$B:$K,10,0) -> 临床医学 | I32: 妇产科医师 | J32: 75.56 | K32: 3 | L32: 否
A33: 31 | B33: 内江市市中区妇幼保健计划生育服务中心 | C33: 贾倩 | D33: 女 | E33: 36338 | F33: 本科 | G33: 学士 | H33: =VLOOKUP(C33,[1]总表93!$B:$K,10,0) -> 临床医学 | I33: 妇产科医师 | J33: 75.508 | K33: 4 | L33: 否
A34: 32 | B34: 内江市市中区妇幼保健计划生育服务中心 | C34: 孙思蒙 | D34: 女 | E34: 33594 | F34: 本科 | G34: 无 | H34: =VLOOKUP(C34,[1]总表93!$B:$K,10,0) -> 临床医学 | I34: 妇产科医师 | J34: 50.4 | K34: 5 | L34: 否 | M34: 面试缺考
A35: 33 | B35: 内江市市中区妇幼保健计划生育服务中心 | C35: 杨丽 | D35: 女 | E35: 35774 | F35: 本科 | G35: 学士 | H35: =VLOOKUP(C35,[1]总表93!$B:$K,10,0) -> 临床医学 | I35: 妇产科医师 | J35: 35.4 | K35: 6 | L35: 否 | M35: 面试缺考
A36: 34 | B36: 内江市市中区妇幼保健计划生育服务中心 | C36: 唐心雨 | D36: 女 | E36: 35792 | F36: 本科 | G36: 学士 | H36: =VLOOKUP(C36,[1]总表93!$B:$K,10,0) -> 麻醉学 | I36: 麻醉医师 | J36: 67.732 | K36: 1 | L36: 是
A37: 35 | B37: 内江市市中区妇幼保健计划生育服务中心 | C37: 朱懿 | D37: 女 | E37: 36704 | F37: 大专 | G37: 无 | H37: =VLOOKUP(C37,[1]总表93!$B:$K,10,0) -> 中药学 | I37: 中药师 | J37: 62.692 | K37: 1 | L37: 是
A38: 36 | B38: 内江市市中区妇幼保健计划生育服务中心 | C38: 龙萱 | D38: 女 | E38: 37410 | F38: 本科 | G38: 学士 | H38: =VLOOKUP(C38,[1]总表93!$B:$K,10,0) -> 护理学 | I38: 护士 | J38: 80.452 | K38: 1 | L38: 是
A39: 37 | B39: 内江市市中区妇幼保健计划生育服务中心 | C39: 李思佳 | D39: 女 | E39: 38115 | F39: 大专 | G39: 无 | H39: =VLOOKUP(C39,[1]总表93!$B:$K,10,0) -> 护理 | I39: 护士 | J39: 76.12 | K39: 2 | L39: 是
A40: 38 | B40: 内江市市中区妇幼保健计划生育服务中心 | C40: 钟佳伶 | D40: 女 | E40: 38223 | F40: 本科 | G40: 无 | H40: =VLOOKUP(C40,[1]总表93!$B:$K,10,0) -> 护理学 | I40: 护士 | J40: 71.988 | K40: 3 | L40: 是
A41: 39 | B41: 内江市市中区妇幼保健计划生育服务中心 | C41: 刘睿 | D41: 女 | E41: 36780 | F41: 大专 | G41: 无 | H41: =VLOOKUP(C41,[1]总表93!$B:$K,10,0) -> 护理 | I41: 护士 | J41: 71.948 | K41: 4 | L41: 是
A42: 40 | B42: 内江市市中区妇幼保健计划生育服务中心 | C42: 郑清 | D42: 女 | E42: 36825 | F42: 本科 | G42: 无 | H42: =VLOOKUP(C42,[1]总表93!$B:$K,10,0) -> 护理学 | I42: 护士 | J42: 71.748 | K42: 5 | L42: 是
A43: 41 | B43: 内江市市中区妇幼保健计划生育服务中心 | C43: 周远秀 | D43: 女 | E43: 35386 | F43: 本科 | G43: 无 | H43: =VLOOKUP(C43,[1]总表93!$B:$K,10,0) -> 护理学 | I43: 护士 | J43: 71.532 | K43: 6 | L43: 否
A44: 42 | B44: 内江市市中区妇幼保健计划生育服务中心 | C44: 袁丽君 | D44: 女 | E44: 36155 | F44: 本科 | G44: 无 | H44: =VLOOKUP(C44,[1]总表93!$B:$K,10,0) -> 护理学 | I44: 护士 | J44: 71.132 | K44: 7 | L44: 否
A45: 43 | B45: 内江市市中区妇幼保健计划生育服务中心 | C45: 马兰 | D45: 女 | E45: 36941 | F45: 大专 | G45: 无 | H45: =VLOOKUP(C45,[1]总表93!$B:$K,10,0) -> 护理 | I45: 护士 | J45: 70.148 | K45: 8 | L45: 否
A46: 44 | B46: 内江市市中区妇幼保健计划生育服务中心 | C46: 李婉玉 | D46: 女 | E46: 37237 | F46: 大专 | G46: 无 | H46: =VLOOKUP(C46,[1]总表93!$B:$K,10,0) -> 护理 | I46: 护士 | J46: 69.8 | K46: 9 | L46: 否
A47: 45 | B47: 内江市市中区妇幼保健计划生育服务中心 | C47: 李虹 | D47: 女 | E47: 38553 | F47: 大专 | G47: 无 | H47: =VLOOKUP(C47,[1]总表93!$B:$K,10,0) -> 护理 | I47: 护士 | J47: 69.308 | K47: 10 | L47: 否
... A52: 50 | B52: 内江市市中区妇幼保健计划生育服务中心 | C52: 张鑫语 | D52: 女 | E52: 38590 | F52: 大专 | G52: 无 | H52: =VLOOKUP(C52,[1]总表93!$B:$K,10,0) -> 护理 | I52: 护士 | J52: 65.748 | K52: 15 | L52: 否
A53: 51 | B53: 内江市市中区妇幼保健计划生育服务中心 | C53: 万菊花 | D53: 女 | E53: 36171 | F53: 本科 | G53: 无 | H53: =VLOOKUP(C53,[1]总表93!$B:$K,10,0) -> 护理学 | I53: 护士 | J53: 33 | K53: 16 | L53: 否 | M53: 面试缺考
A54: 52 | B54: 内江市市中区中医医院 | C54: 刘武 | D54: 男 | E54: 1996.08 | F54: 本科 | G54: 无 | H54: 中药制药技术 | I54: 中药师 | J54: 83.83 | K54: 1 | L54: 是
A55: 53 | B55: 内江市市中区中医医院 | C55: 王刚 | D55: 男 | E55: 1999.08 | F55: 本科 | G55: 无 | H55: 药学 | I55: 药师 | J55: 82.83 | K55: 1 | L55: 是
A56: 54 | B56: 内江市市中区中医医院 | C56: 陶薇 | D56: 女 | E56: 1999.12 | F56: 本科 | G56: 学士 | H56: 药学 | I56: 药师 | J56: 79.67 | K56: 2 | L56: 否
A57: 55 | B57: 内江市市中区中医医院 | C57: 杨宿 | D57: 女 | E57: 2000.12 | F57: 大专 | G57: 无 | H57: 药学 | I57: 药师 | J57: 79 | K57: 3 | L57: 否
A58: 56 | B58: 内江市市中区中医医院 | C58: 刘丽萍 | D58: 女 | E58: 2001.01 | F58: 本科 | G58: 无 | H58: 药学 | I58: 药师 | J58: 78.67 | K58: 4 | L58: 否
A59: 57 | B59: 内江市市中区中医医院 | C59: 敖春梅 | D59: 女 | E59: 1997.01 | F59: 本科 | G59: 无 | H59: 药学 | I59: 药师 | J59: 78 | K59: 5 | L59: 否
A60: 58 | B60: 内江市市中区中医医院 | C60: 黄佳怡 | D60: 女 | E60: 2001.03 | F60: 大专 | G60: 无 | H60: 药学 | I60: 药师 | J60: 77.33 | K60: 6 | L60: 否
A61: 59 | B61: 内江市市中区中医医院 | C61: 李瑶琦 | D61: 女 | E61: 1994.11 | F61: 本科 | G61: 无 | H61: 药学 | I61: 药师 | J61: 77.17 | K61: 7 | L61: 否
A62: 60 | B62: 内江市市中区中医医院 | C62: 陈垠锦 | D62: 男 | E62: 2001.12 | F62: 大专 | G62: 无 | H62: 护理 | I62: 护士 | J62: 80.33 | K62: 1 | L62: 是
A63: 61 | B63: 内江市市中区中医医院 | C63: 徐梦 | D63: 女 | E63: 1991.09 | F63: 本科 | G63: 无 | H63: 护理学 | I63: 护士 | J63: 79.67 | K63: 2 | L63: 否
A64: 62 | B64: 内江市市中区口腔医院 | C64: 李婧 | D64: 女 | E64: 1991.08 | F64: 本科 | G64: 无 | H64: 护理学 | I64: 医务科工作人员 | J64: 84.83 | K64: 1 | L64: 是
A65: 63 | B65: 内江市市中区口腔医院 | C65: 邓凌宇 | D65: 女 | E65: 1996.08 | F65: 本科 | G65: 无 | H65: 临床医学 | I65: 医务科工作人员 | J65: 84.17 | K65: 2 | L65: 是
... A108: 106 | B108: 内江市市中区玉溪社区卫生服务中心 | C108: 刘思雨 | D108: 女 | E108: 2004.02 | F108: 大专 | G108: 无 | H108: 康复治疗技术 | I108: 康复治疗技士 | J108: 75.75 | K108: 11 | L108: 否
